BEGIN:VCALENDAR
VERSION:2.0
METHOD:PUBLISH
BEGIN:VEVENT
DTSTART:20260507T100000Z
DTEND:20260507T130000Z
LOCATION:Belfast
TRANSP: OPAQUE
SEQUENCE:0
UID:
DTSTAMP:20260423T053600Z
SUMMARY:Fleet Auction
DESCRIPTION:
PRIORITY:1
CLASS:PUBLIC
URL:https://www.cityauctiongroup.com/auction/2157
END:VEVENT
END:VCALENDAR