BEGIN:VCALENDAR
VERSION:2.0
METHOD:PUBLISH
BEGIN:VEVENT
DTSTART:20260420T143000Z
DTEND:20260420T173000Z
LOCATION:Peterborough
TRANSP: OPAQUE
SEQUENCE:0
UID:
DTSTAMP:20260419T145138Z
SUMMARY:Dealer PX & Finance Auction
DESCRIPTION:
PRIORITY:1
CLASS:PUBLIC
URL:https://www.cityauctiongroup.com/auction/2178
END:VEVENT
END:VCALENDAR