BEGIN:VCALENDAR
VERSION:2.0
METHOD:PUBLISH
BEGIN:VEVENT
DTSTART:20260428T130000Z
DTEND:20260428T160000Z
LOCATION:Peterborough
TRANSP: OPAQUE
SEQUENCE:0
UID:
DTSTAMP:20260421T131404Z
SUMMARY:Commercial Auction
DESCRIPTION:
PRIORITY:1
CLASS:PUBLIC
URL:https://www.cityauctiongroup.com/auction/2183
END:VEVENT
END:VCALENDAR