BEGIN:VCALENDAR
VERSION:2.0
METHOD:PUBLISH
BEGIN:VEVENT
DTSTART:20260428T133000Z
DTEND:20260428T163000Z
LOCATION:Peterborough
TRANSP: OPAQUE
SEQUENCE:0
UID:
DTSTAMP:20260423T084310Z
SUMMARY:Motorbike Auction
DESCRIPTION:
PRIORITY:1
CLASS:PUBLIC
URL:https://www.cityauctiongroup.com/auction/2184
END:VEVENT
END:VCALENDAR