BEGIN:VCALENDAR
VERSION:2.0
METHOD:PUBLISH
BEGIN:VEVENT
DTSTART:20260421T130000Z
DTEND:20260421T160000Z
LOCATION:Peterborough
TRANSP: OPAQUE
SEQUENCE:0
UID:
DTSTAMP:20260419T033634Z
SUMMARY:Commercial Auction
DESCRIPTION:
PRIORITY:1
CLASS:PUBLIC
URL:https://www.cityauctiongroup.com/auction/2201
END:VEVENT
END:VCALENDAR